BEGIN:VCALENDAR
VERSION:2.0
PRODID:-//hacksw/handcal//NONSGML v1.0//EN
BEGIN:VEVENT
DTSTAMP:20260314T100000Z
DTSTART:20260314T100000Z
DTEND:20260314T100000Z
LOCATION:Universitätsplatz, Fulda, 36037, Deutschland
SUMMARY:Wahlkampfstand am Universitätsplatz
END:VEVENT
END:VCALENDAR
