BEGIN:VCALENDAR
VERSION:2.0
PRODID:-//hacksw/handcal//NONSGML v1.0//EN
BEGIN:VEVENT
DTSTAMP:20260225T170000Z
DTSTART:20260225T170000Z
DTEND:20260225T170000Z
LOCATION:3G Hotel Fulda, Werner-von-Siemens-Straße 12, Fulda, 36041, Deutschland
SUMMARY:Blaulicht-Forum mit Joachim Herrmann
END:VEVENT
END:VCALENDAR
