BEGIN:VCALENDAR
VERSION:2.0
PRODID:-//hacksw/handcal//NONSGML v1.0//EN
BEGIN:VEVENT
DTSTAMP:20260204T180000Z
DTSTART:20260204T180000Z
DTEND:20260204T180000Z
LOCATION:antonius Festscheune, An St. Kathrin 4, Fulda, 36041, Deutschland
SUMMARY:Gitta Connemann in Fulda
END:VEVENT
END:VCALENDAR
