BEGIN:VCALENDAR
VERSION:2.0
PRODID:-//hacksw/handcal//NONSGML v1.0//EN
BEGIN:VEVENT
DTSTAMP:20260402T130000Z
DTSTART:20260402T130000Z
DTEND:20260402T130000Z
LOCATION:Neuland GmbH & Co. KG, Am Kreuzacker 7, Eichenzell, 36124, Deutschland
SUMMARY:Betriebsbesichtigung Neuland GmbH & Co. KG
END:VEVENT
END:VCALENDAR
